BEGIN:VCALENDAR
VERSION:2.0
PRODID:-//Fidelis - ECPv6.15.17.1//NONSGML v1.0//EN
CALSCALE:GREGORIAN
METHOD:PUBLISH
X-WR-CALNAME:Fidelis
X-ORIGINAL-URL:https://fidelisagents.com
X-WR-CALDESC:Events for Fidelis
REFRESH-INTERVAL;VALUE=DURATION:PT1H
X-Robots-Tag:noindex
X-PUBLISHED-TTL:PT1H
BEGIN:VTIMEZONE
TZID:America/Denver
BEGIN:DAYLIGHT
TZOFFSETFROM:-0700
TZOFFSETTO:-0600
TZNAME:MDT
DTSTART:20230312T090000
END:DAYLIGHT
BEGIN:STANDARD
TZOFFSETFROM:-0600
TZOFFSETTO:-0700
TZNAME:MST
DTSTART:20231105T080000
END:STANDARD
BEGIN:DAYLIGHT
TZOFFSETFROM:-0700
TZOFFSETTO:-0600
TZNAME:MDT
DTSTART:20240310T090000
END:DAYLIGHT
BEGIN:STANDARD
TZOFFSETFROM:-0600
TZOFFSETTO:-0700
TZNAME:MST
DTSTART:20241103T080000
END:STANDARD
BEGIN:DAYLIGHT
TZOFFSETFROM:-0700
TZOFFSETTO:-0600
TZNAME:MDT
DTSTART:20250309T090000
END:DAYLIGHT
BEGIN:STANDARD
TZOFFSETFROM:-0600
TZOFFSETTO:-0700
TZNAME:MST
DTSTART:20251102T080000
END:STANDARD
END:VTIMEZONE
BEGIN:VEVENT
DTSTART;TZID=America/Denver:20240319T120000
DTEND;TZID=America/Denver:20240319T140000
DTSTAMP:20260421T143557
CREATED:20240311T233306Z
LAST-MODIFIED:20240311T233306Z
UID:23761-1710849600-1710856800@fidelisagents.com
SUMMARY:Devoted Day at Fidelis Colorado
DESCRIPTION:Mark your calendars for a Devoted Day and pizza party! Join us as we revisit reasons why Fidelis is the #1 FMO with Devoted in Colorado – two years running! \nThe Devoted team will be in-office to collaborate with agents and discuss: \n• winning sales strategies \n• product wins and highlights \n• sponsorship opportunities \n  \n\nPlease RSVP to Marisa@fidelisins.com! \n\n\n\n\n  \n\nNever Miss an Update by Joining Our Mailing List and Following Us on Social Media! 
URL:https://fidelisagents.com/event/devoted-day-at-fidelis-colorado/
LOCATION:Fidelis Colorado Office\, 12170 S Tejon Street\, Ste 1100\, Westminster\, 80234
CATEGORIES:Colorado
ATTACH;FMTTYPE=image/png:https://fidelisagents.com/wp-content/uploads/2024/03/Devoted-Day-at-Fidelis-Website.png
ORGANIZER;CN="Marisa Kanold":MAILTO:marisa@fidelisins.com
END:VEVENT
END:VCALENDAR