BEGIN:VCALENDAR
VERSION:2.0
PRODID:-//Fidelis - ECPv6.15.17.1//NONSGML v1.0//EN
CALSCALE:GREGORIAN
METHOD:PUBLISH
X-WR-CALNAME:Fidelis
X-ORIGINAL-URL:https://fidelisagents.com
X-WR-CALDESC:Events for Fidelis
REFRESH-INTERVAL;VALUE=DURATION:PT1H
X-Robots-Tag:noindex
X-PUBLISHED-TTL:PT1H
BEGIN:VTIMEZONE
TZID:America/Phoenix
BEGIN:STANDARD
TZOFFSETFROM:-0700
TZOFFSETTO:-0700
TZNAME:MST
DTSTART:20250101T000000
END:STANDARD
END:VTIMEZONE
BEGIN:VEVENT
DTSTART;TZID=America/Phoenix:20260120T090000
DTEND;TZID=America/Phoenix:20260120T100000
DTSTAMP:20260419T063432
CREATED:20260114T223736Z
LAST-MODIFIED:20260114T223736Z
UID:44353-1768899600-1768903200@fidelisagents.com
SUMMARY:The Med Supp Education Series: UnitedHealthcare One - Advantage Guard
DESCRIPTION:With AEP behind us\, many seniors may not realize their Medicare Advantage or Supplement plan could still leave them with unexpected medical expenses. \nJoin our exclusive webinar to explore three valuable solutions: \n\nAdvantageGuard – Hospital indemnity coverage\nAccidentWise – Accident protection\nCriticalGuard – Critical illness coverage\n\nClick here to register!  \n  \n\n\n\n\n\n\nNever Miss an Update by Updating Your Contact Preferences and Following Us on Social Media! 
URL:https://fidelisagents.com/event/the-med-supp-education-series-unitedhealthcare-one-advantage-guard/
LOCATION:Integrity Webinars
CATEGORIES:National
ATTACH;FMTTYPE=image/png:https://fidelisagents.com/wp-content/uploads/2026/01/John-Colbaugh-Virtual-Event-Website-Header.png
END:VEVENT
BEGIN:VEVENT
DTSTART;TZID=America/Phoenix:20260120T110000
DTEND;TZID=America/Phoenix:20260120T120000
DTSTAMP:20260419T063432
CREATED:20260114T223438Z
LAST-MODIFIED:20260114T223438Z
UID:44346-1768906800-1768910400@fidelisagents.com
SUMMARY:The Med Supp Education Series: The Humana Med Supp Showcase
DESCRIPTION:Join us for a comprehensive webinar to explore the significant improvements implemented in Humana Achieve Medicare Supplement\, affirming its position as a leading product in the market. \nDon’t miss out on this opportunity to stay ahead in the Medicare supplement industry. \nClick here to register!  \n  \n  \n\n\n\n\n\n\nNever Miss an Update by Updating Your Contact Preferences and Following Us on Social Media! 
URL:https://fidelisagents.com/event/the-med-supp-education-series-the-humana-med-supp-showcase-7/
LOCATION:Integrity Webinars
CATEGORIES:National
ATTACH;FMTTYPE=image/png:https://fidelisagents.com/wp-content/uploads/2025/06/John-Colbaugh-Virtual-Event-Website-Header-17.png
END:VEVENT
BEGIN:VEVENT
DTSTART;TZID=America/Phoenix:20260120T130000
DTEND;TZID=America/Phoenix:20260120T140000
DTSTAMP:20260419T063432
CREATED:20260114T223652Z
LAST-MODIFIED:20260114T223652Z
UID:44350-1768914000-1768917600@fidelisagents.com
SUMMARY:The Med Supp Education Series: How To Present Short Term Care
DESCRIPTION:New to the senior market or looking to learn about Short-Term Care products for your clients? This is the Webinar for you. \nIn this Can’t miss event for the Senior Market Agent\, we will discuss: \n\nWho Needs Short-Term Care?\nHow Much do they need?\nHow to present Short-Term Care to your client.\n\nClick here to register!  \n  \n\n\n\n\n\n\nNever Miss an Update by Updating Your Contact Preferences and Following Us on Social Media! 
URL:https://fidelisagents.com/event/the-med-supp-education-series-how-to-present-short-term-care-7/
LOCATION:Integrity Webinars
CATEGORIES:National
ATTACH;FMTTYPE=image/png:https://fidelisagents.com/wp-content/uploads/2025/06/John-Colbaugh-Virtual-Event-Website-Header-22.png
END:VEVENT
END:VCALENDAR