BEGIN:VCALENDAR
VERSION:2.0
PRODID:-//Fidelis - ECPv6.15.17.1//NONSGML v1.0//EN
CALSCALE:GREGORIAN
METHOD:PUBLISH
X-ORIGINAL-URL:https://fidelisagents.com
X-WR-CALDESC:Events for Fidelis
REFRESH-INTERVAL;VALUE=DURATION:PT1H
X-Robots-Tag:noindex
X-PUBLISHED-TTL:PT1H
BEGIN:VTIMEZONE
TZID:America/Phoenix
BEGIN:STANDARD
TZOFFSETFROM:-0700
TZOFFSETTO:-0700
TZNAME:MST
DTSTART:20240101T000000
END:STANDARD
END:VTIMEZONE
BEGIN:VEVENT
DTSTART;TZID=America/Phoenix:20251216T130000
DTEND;TZID=America/Phoenix:20251216T140000
DTSTAMP:20260421T053102
CREATED:20251027T164741Z
LAST-MODIFIED:20251027T164741Z
UID:42450-1765890000-1765893600@fidelisagents.com
SUMMARY:The Med Supp Education Series: Market Disruptions
DESCRIPTION:We know AEP is still ringing in everyone’s ears\, but there is a lot of business still on the table!  \nLearn how to make the most of the continued Service Area Reduction SEP\, and carry that momentum into OEP in 2026! \nClick here to register!  \n  \n\n\n\n\nNever Miss an Update by Updating Your Contact Preferences and Following Us on Social Media! 
URL:https://fidelisagents.com/event/the-med-supp-education-series-market-disruptions/
LOCATION:Zoom
CATEGORIES:Arizona,Colorado,National,New Mexico,Tennessee
ATTACH;FMTTYPE=image/png:https://fidelisagents.com/wp-content/uploads/2025/06/John-Colbaugh-Virtual-Event-Website-Header-15.png
END:VEVENT
END:VCALENDAR