BEGIN:VCALENDAR
VERSION:2.0
PRODID:-//Fidelis - ECPv6.15.17.1//NONSGML v1.0//EN
CALSCALE:GREGORIAN
METHOD:PUBLISH
X-WR-CALNAME:Fidelis
X-ORIGINAL-URL:https://fidelisagents.com
X-WR-CALDESC:Events for Fidelis
REFRESH-INTERVAL;VALUE=DURATION:PT1H
X-Robots-Tag:noindex
X-PUBLISHED-TTL:PT1H
BEGIN:VTIMEZONE
TZID:America/Phoenix
BEGIN:STANDARD
TZOFFSETFROM:-0700
TZOFFSETTO:-0700
TZNAME:MST
DTSTART:20240101T000000
END:STANDARD
END:VTIMEZONE
BEGIN:VTIMEZONE
TZID:America/Denver
BEGIN:DAYLIGHT
TZOFFSETFROM:-0700
TZOFFSETTO:-0600
TZNAME:MDT
DTSTART:20240310T090000
END:DAYLIGHT
BEGIN:STANDARD
TZOFFSETFROM:-0600
TZOFFSETTO:-0700
TZNAME:MST
DTSTART:20241103T080000
END:STANDARD
BEGIN:DAYLIGHT
TZOFFSETFROM:-0700
TZOFFSETTO:-0600
TZNAME:MDT
DTSTART:20250309T090000
END:DAYLIGHT
BEGIN:STANDARD
TZOFFSETFROM:-0600
TZOFFSETTO:-0700
TZNAME:MST
DTSTART:20251102T080000
END:STANDARD
BEGIN:DAYLIGHT
TZOFFSETFROM:-0700
TZOFFSETTO:-0600
TZNAME:MDT
DTSTART:20260308T090000
END:DAYLIGHT
BEGIN:STANDARD
TZOFFSETFROM:-0600
TZOFFSETTO:-0700
TZNAME:MST
DTSTART:20261101T080000
END:STANDARD
END:VTIMEZONE
BEGIN:VEVENT
DTSTART;TZID=America/Phoenix:20250902T100000
DTEND;TZID=America/Phoenix:20250902T110000
DTSTAMP:20260421T094657
CREATED:20250827T231411Z
LAST-MODIFIED:20250827T231411Z
UID:40445-1756807200-1756810800@fidelisagents.com
SUMMARY:The Med Supp Education Series: Plan N For The Win!
DESCRIPTION:Unlock Your Potential with “Plan N for the Win”\, A Can’t-Miss Webinar Event! \nIn a world where every challenge is an opportunity for growth\, it’s time to elevate your strategy with Medicare Supplement Plan N. Join us for an exclusive webinar\, “Plan N for the Win\,” and discover how to transform obstacles into victories. \nClick here to register!  \n  \n\n\n\n\nNever Miss an Update by Updating Your Contact Preferences and Following Us on Social Media! 
URL:https://fidelisagents.com/event/the-med-supp-education-series-plan-n-for-the-win-4/
LOCATION:Zoom
CATEGORIES:Arizona,Colorado,National,New Mexico,Tennessee
ATTACH;FMTTYPE=image/png:https://fidelisagents.com/wp-content/uploads/2025/06/John-Colbaugh-Virtual-Event-Website-Header-23.png
END:VEVENT
BEGIN:VEVENT
DTSTART;TZID=America/Phoenix:20250903T120000
DTEND;TZID=America/Phoenix:20250903T130000
DTSTAMP:20260421T094657
CREATED:20250827T231457Z
LAST-MODIFIED:20250827T231457Z
UID:40450-1756900800-1756904400@fidelisagents.com
SUMMARY:The Med Supp Education Series: Mastering The Mystery of Med Supp - Part 1
DESCRIPTION:Are you new to the world of Medicare Supplements? Join us as we embark on a journey to uncover the compelling reasons behind why 1 in 3 clients are embracing the power of Medicare Supplements. \nIn this exclusive event\, we will guide you through the compelling reasons why these plans have always been an absolute must-have for anyone seeking optimal protection and peace of mind. \nClick here to register!  \n  \n\n\n\n\n\nNever Miss an Update by Updating Your Contact Preferences and Following Us on Social Media! 
URL:https://fidelisagents.com/event/the-med-supp-education-series-mastering-the-mystery-of-med-supp-part-1-4/
LOCATION:Zoom
CATEGORIES:Arizona,Colorado,National,New Mexico,Tennessee
ATTACH;FMTTYPE=image/png:https://fidelisagents.com/wp-content/uploads/2025/06/John-Colbaugh-Virtual-Event-Website-Header-21.png
END:VEVENT
BEGIN:VEVENT
DTSTART;TZID=America/Phoenix:20250904T120000
DTEND;TZID=America/Phoenix:20250904T130000
DTSTAMP:20260421T094657
CREATED:20250827T231613Z
LAST-MODIFIED:20250827T231613Z
UID:40452-1756987200-1756990800@fidelisagents.com
SUMMARY:The Med Supp Education Series: Mastering The Mystery of Med Supp - Part 2
DESCRIPTION:New to Medicare Supplements or the Senior Market? Join our webinar to excel in identifying Med Supp clients! \nIn this webinar\, we’ll dive into the strategies for pinpointing Med Supp clients\, crucial for thriving in this market. \nClick here to register! \n  \n\n\n\n\n\nNever Miss an Update by Updating Your Contact Preferences and Following Us on Social Media! 
URL:https://fidelisagents.com/event/the-med-supp-education-series-mastering-the-mystery-of-med-supp-part-2-4/
LOCATION:Zoom
CATEGORIES:Arizona,Colorado,National,New Mexico,Tennessee
ATTACH;FMTTYPE=image/png:https://fidelisagents.com/wp-content/uploads/2025/06/John-Colbaugh-Virtual-Event-Website-Header-21.png
END:VEVENT
BEGIN:VEVENT
DTSTART;TZID=America/Denver:20250909T130000
DTEND;TZID=America/Denver:20250909T150000
DTSTAMP:20260421T094657
CREATED:20250729T171224Z
LAST-MODIFIED:20250807T215156Z
UID:39502-1757422800-1757430000@fidelisagents.com
SUMMARY:UnitedHealthcare + Fidelis Colorado Pre-Rollout Plan Preview
DESCRIPTION:Knock It Out of the Park This AEP with UHC!\nPlease join your UHC and Fidelis CO teams for a UHC Rollout event\, exclusively for Fidelis brokers. UHC will be presenting their 2026 plan offerings\, you won’t want to miss this valuable occasion. \nMake sure to RSVP to confirm your spot\, we can wait to see you there! \nClick here to RSVP! \n\n\n  \nNever Miss an Update by Updating Your Contact Preferences and Following Us on Social Media! 
URL:https://fidelisagents.com/event/unitedhealthcare-fidelis-colorado-pre-rollout-plan-preview/
LOCATION:Fidelis Colorado Office\, 12170 Tejon St.\, Ste. 1100\, Westminster\, CO\, 80234\, United States
CATEGORIES:Colorado
ATTACH;FMTTYPE=image/png:https://fidelisagents.com/wp-content/uploads/2025/07/Devoted-Fidelis-Pre-Rollout-Plan-Preview-Header-1.png
ORGANIZER;CN="Marisa Kanold":MAILTO:marisa@fidelisins.com
END:VEVENT
BEGIN:VEVENT
DTSTART;TZID=America/Phoenix:20250910T100000
DTEND;TZID=America/Phoenix:20250910T110000
DTSTAMP:20260421T094657
CREATED:20250827T231840Z
LAST-MODIFIED:20250827T231840Z
UID:40458-1757498400-1757502000@fidelisagents.com
SUMMARY:The Med Supp Education Series: The INA Med Supp Showcase
DESCRIPTION:Join us for an exciting webinar review of what INA has to offer your clients.  \nWe’re so excited for the launch of this exciting\, new Medicare Supplement from INA – and we can’t wait to see what amazing things we can accomplish together with products like this\, and your entire suite of Integrity proprietary products on our side! \nClick here to register!  \n\n\n\n\n\n  \nNever Miss an Update by Updating Your Contact Preferences and Following Us on Social Media!  \n\n\n\n\n\n\n\n\n\n\n\n\n\n\n\n\n\n\n\n\n 
URL:https://fidelisagents.com/event/the-med-supp-education-series-the-ina-med-supp-showcase-4/
LOCATION:Zoom
CATEGORIES:Arizona,Colorado,National,New Mexico,Tennessee
ATTACH;FMTTYPE=image/png:https://fidelisagents.com/wp-content/uploads/2025/06/John-Colbaugh-Virtual-Event-Website-Header-16.png
END:VEVENT
BEGIN:VEVENT
DTSTART;TZID=America/Phoenix:20250910T120000
DTEND;TZID=America/Phoenix:20250910T130000
DTSTAMP:20260421T094657
CREATED:20250827T231727Z
LAST-MODIFIED:20250827T231727Z
UID:40456-1757505600-1757509200@fidelisagents.com
SUMMARY:The Med Supp Education Series: The Humana Med Supp Showcase
DESCRIPTION:Join us for a comprehensive webinar to explore the significant improvements implemented in Humana Achieve Medicare Supplement\, affirming its position as a leading product in the market. \nThis event is crucial for those looking to enrich their Med Supp portfolio with a product that’s continuously evolving to better serve its clients. \nClick here to register!  \n  \n\n\n\n\n\nNever Miss an Update by Updating Your Contact Preferences and Following Us on Social Media! 
URL:https://fidelisagents.com/event/the-med-supp-education-series-the-humana-med-supp-showcase-4/
LOCATION:Zoom
CATEGORIES:Arizona,Colorado,National,New Mexico,Tennessee
ATTACH;FMTTYPE=image/png:https://fidelisagents.com/wp-content/uploads/2025/06/John-Colbaugh-Virtual-Event-Website-Header-17.png
END:VEVENT
BEGIN:VEVENT
DTSTART;TZID=America/Phoenix:20250911T100000
DTEND;TZID=America/Phoenix:20250911T110000
DTSTAMP:20260421T094657
CREATED:20250827T231944Z
LAST-MODIFIED:20250827T231944Z
UID:40490-1757584800-1757588400@fidelisagents.com
SUMMARY:The Med Supp Education Series: The Wellabe Med Supp Showcase
DESCRIPTION:Join us for an exclusive Wellabe Webinar as we take you on a journey through our rich 95-year history\, a legacy of excellence in healthcare. \nDiscover Wellabe’s vast array of products and ensure your Medicare Supplement Tool Kit is truly complete. \nClick here to register!  \n  \n\n\n\n\n\n\n\n\n\n\n\n\n\n\nNever Miss an Update by Updating Your Contact Preferences and Following Us on Social Media! 
URL:https://fidelisagents.com/event/the-med-supp-education-series-the-wellabe-med-supp-showcase-4/
LOCATION:Zoom
CATEGORIES:Arizona,Colorado,National,New Mexico,Tennessee
ATTACH;FMTTYPE=image/png:https://fidelisagents.com/wp-content/uploads/2025/06/John-Colbaugh-Virtual-Event-Website-Header-19.png
END:VEVENT
BEGIN:VEVENT
DTSTART;TZID=America/Phoenix:20250911T120000
DTEND;TZID=America/Phoenix:20250911T130000
DTSTAMP:20260421T094657
CREATED:20250731T174041Z
LAST-MODIFIED:20250731T201235Z
UID:39953-1757592000-1757595600@fidelisagents.com
SUMMARY:Integrity Webinar - Navigating the Impacts of Birthday and Anniversary Rules
DESCRIPTION:Join for an engaging webinar as we unpack the effects of Birthday and Anniversary Rules impacting Medicare Supplements across 14 states\, with 6 more states considering adoption. \nWe’ll dive into how these regulations are shaking things up for clients\, carriers\, and agents in the Medicare Supplement market\, with a candid look at the mostly negative impacts. \nClick here to register!  \n  \n\n\n\nNever Miss an Update by Updating Your Contact Preferences and Following Us on Social Media!
URL:https://fidelisagents.com/event/integrity-webinar-navigating-the-impacts-of-birthday-and-anniversary-rules/
LOCATION:Zoom
CATEGORIES:Arizona,Colorado,National,New Mexico,Tennessee
ATTACH;FMTTYPE=image/png:https://fidelisagents.com/wp-content/uploads/2025/07/Generic-Website-Headers-3.png
END:VEVENT
BEGIN:VEVENT
DTSTART;TZID=America/Phoenix:20250911T120000
DTEND;TZID=America/Phoenix:20250911T130000
DTSTAMP:20260421T094657
CREATED:20250827T232135Z
LAST-MODIFIED:20250827T232135Z
UID:40493-1757592000-1757595600@fidelisagents.com
SUMMARY:The Med Supp Education Series: How To Present Short Term Care
DESCRIPTION:New to the senior market or looking to learn about Short-Term Care products for your clients? This is the Webinar for you. \nDon’t miss this opportunity to help you learn more about the Short-term care market to better protect your clients. \nClick here to register!  \n  \n\n\n\n\n\n\n\n\n\n\n\n\n\n\n\nNever Miss an Update by Updating Your Contact Preferences and Following Us on Social Media! 
URL:https://fidelisagents.com/event/the-med-supp-education-series-how-to-present-short-term-care-4/
LOCATION:Zoom
CATEGORIES:Arizona,Colorado,National,New Mexico,Tennessee
ATTACH;FMTTYPE=image/png:https://fidelisagents.com/wp-content/uploads/2025/06/John-Colbaugh-Virtual-Event-Website-Header-22.png
END:VEVENT
BEGIN:VEVENT
DTSTART;TZID=America/Phoenix:20250915T120000
DTEND;TZID=America/Phoenix:20250915T130000
DTSTAMP:20260421T094657
CREATED:20250827T232237Z
LAST-MODIFIED:20250827T232237Z
UID:40496-1757937600-1757941200@fidelisagents.com
SUMMARY:The Med Supp Education Series: Ride Along & Master Med Supp Underwriting
DESCRIPTION:Med Supp underwriting shouldn’t be intimidating\, and we’re here to make sure you know the ropes \nJoin us for a new approach\, as we revive the tried-and-true “Ride Along” experience\, and master the most sought-after enrollment category in the world of Med Supps. \nClick here to register!  \n  \n\n\n\n\n\n\n\n\n\n\n\n\n\n\n\nNever Miss an Update by Updating Your Contact Preferences and Following Us on Social Media! 
URL:https://fidelisagents.com/event/the-med-supp-education-series-ride-along-master-med-supp-underwriting/
LOCATION:Zoom
CATEGORIES:Arizona,Colorado,National,New Mexico,Tennessee
ATTACH;FMTTYPE=image/png:https://fidelisagents.com/wp-content/uploads/2025/06/John-Colbaugh-Virtual-Event-Website-Header-28.png
END:VEVENT
BEGIN:VEVENT
DTSTART;TZID=America/Phoenix:20250915T130000
DTEND;TZID=America/Phoenix:20250915T150000
DTSTAMP:20260421T094657
CREATED:20250829T202930Z
LAST-MODIFIED:20250829T202930Z
UID:40908-1757941200-1757948400@fidelisagents.com
SUMMARY:Kaiser + Fidelis AEP Readiness Rollout
DESCRIPTION:Fidelis and Kaiser invite you to an exclusive virtual AEP Readiness Rollout! \nTune in on September 15th to learn how Kaiser’s wide ranger of products can give you an edge this AEP. \nClick here to join!  \n  \n\n\n\n\n\n\nNever Miss an Update by Updating Your Contact Preferences and Following Us on Social Media! 
URL:https://fidelisagents.com/event/kaiser-fidelis-aep-readiness-rollout/
LOCATION:Microsoft Teams
CATEGORIES:Colorado
ATTACH;FMTTYPE=image/png:https://fidelisagents.com/wp-content/uploads/2025/08/done-3.png
END:VEVENT
BEGIN:VEVENT
DTSTART;VALUE=DATE:20250918
DTEND;VALUE=DATE:20250919
DTSTAMP:20260421T094657
CREATED:20250422T230902Z
LAST-MODIFIED:20250507T160802Z
UID:35987-1758153600-1758239999@fidelisagents.com
SUMMARY:2026 AEP Rollout in Colorado
DESCRIPTION:Gear Up & Giddy Up!\nThe 2026 Fidelis AEP Rollout is comin’ to town — and you won’t want to miss it. This ain’t just any ol’ meeting… it’s your one-stop hitchin’ post for all things AEP. \nCome rustle up the latest plan information straight from the carriers\, grab the tools and tech you need from the Fidelis team\, and connect with the folks who’ve got your back this selling season. \nWhether you’re a seasoned trailblazer or just ridin’ into your first AEP\, this roundup will have you geared up and ready to giddy up toward your best season yet. \nClick Here to Join the Fun!  \n  \nNever Miss an Update by Updating Your Contact Preferences and Following Us on Social Media!
URL:https://fidelisagents.com/event/2026-aep-rollout-in-colorado/
LOCATION:Church Ranch Event Center\, 10200 Wadsworth Boulevard\, Westminster\, CO\, 80021\, United States
CATEGORIES:Colorado
ATTACH;FMTTYPE=image/jpeg:https://fidelisagents.com/wp-content/uploads/2025/04/Colorado-Website-Header.jpg
ORGANIZER;CN="Marisa Kanold":MAILTO:marisa@fidelisins.com
END:VEVENT
BEGIN:VEVENT
DTSTART;TZID=America/Phoenix:20250922T100000
DTEND;TZID=America/Phoenix:20250922T110000
DTSTAMP:20260421T094657
CREATED:20250827T232435Z
LAST-MODIFIED:20250827T232435Z
UID:40500-1758535200-1758538800@fidelisagents.com
SUMMARY:The Med Supp Education Series: Perfecting The Client Needs Assessment
DESCRIPTION:Join us for an exclusive webinar that will empower you to enhance your insurance career and prioritize your clients like never before. \nDiscover the secret to success by incorporating a Client Needs Assessment (CNA) into your toolkit\, ultimately boosting your ancillary sales. \nClick here to register!  \n  \n\n\n\n\n\n\n\n\n\n\n\n\n\n\n\nNever Miss an Update by Updating Your Contact Preferences and Following Us on Social Media! 
URL:https://fidelisagents.com/event/the-med-supp-education-series-perfecting-the-client-needs-assessment/
LOCATION:Zoom
CATEGORIES:Arizona,Colorado,National,New Mexico,Tennessee
ATTACH;FMTTYPE=image/png:https://fidelisagents.com/wp-content/uploads/2025/06/John-Colbaugh-Virtual-Event-Website-Header-24.png
END:VEVENT
BEGIN:VEVENT
DTSTART;TZID=America/Phoenix:20250922T120000
DTEND;TZID=America/Phoenix:20250922T130000
DTSTAMP:20260421T094657
CREATED:20250827T232348Z
LAST-MODIFIED:20250827T232348Z
UID:40498-1758542400-1758546000@fidelisagents.com
SUMMARY:The Med Supp Education Series: The Cigna Med Supp Showcase
DESCRIPTION:CIGNA’s Medicare Supplement is here to give agents a real advantage in the field! \nNow\, we’re throwing fuel on the fire with an all-new webinar that offers agents a fast-track to confidently selling one of the biggest products in the industry – the CIGNA Med Supp! \nClick here to register!  \n  \n\n\n\n\n\n\n\n\n\n\n\n\n\n\n\nNever Miss an Update by Updating Your Contact Preferences and Following Us on Social Media! 
URL:https://fidelisagents.com/event/the-med-supp-education-series-the-cigna-med-supp-showcase-4/
LOCATION:Zoom
CATEGORIES:Arizona,Colorado,National,New Mexico,Tennessee
ATTACH;FMTTYPE=image/png:https://fidelisagents.com/wp-content/uploads/2025/06/John-Colbaugh-Virtual-Event-Website-Header-18.png
END:VEVENT
BEGIN:VEVENT
DTSTART;TZID=America/Denver:20250923T140000
DTEND;TZID=America/Denver:20250923T150000
DTSTAMP:20260421T094657
CREATED:20250919T225421Z
LAST-MODIFIED:20250919T225421Z
UID:41181-1758636000-1758639600@fidelisagents.com
SUMMARY:Humana Colorado Plans 2026
DESCRIPTION:Discover Humana’s top Colorado plans for 2026 in this virtual event! Don’t miss this opportunity to get ahead and prepare for a successful year.  \nThis virtual training is offered exclusively for Fidelis brokers. Bring your questions and see you there!\nClick here to join! \n  \n\n\n\n\n\n\n\n\n\n\n\n\n\n\n\n\nNever Miss an Update by Updating Your Contact Preferences and Following Us on Social Media! 
URL:https://fidelisagents.com/event/humana-colorado-plans-2026/
LOCATION:Zoom
CATEGORIES:Colorado
ATTACH;FMTTYPE=image/png:https://fidelisagents.com/wp-content/uploads/2025/09/Humana-Colorado-Plans-2026-Local-CO-Event.png
END:VEVENT
BEGIN:VEVENT
DTSTART;TZID=America/Phoenix:20250924T100000
DTEND;TZID=America/Phoenix:20250924T110000
DTSTAMP:20260421T094657
CREATED:20250829T202811Z
LAST-MODIFIED:20250829T202811Z
UID:40903-1758708000-1758711600@fidelisagents.com
SUMMARY:AEP Readiness With Devoted and Fidelis
DESCRIPTION:What You NEED to Know About LIS! \nJoin Devoted and Fidelis for a virtual AEP Readiness training with an emphasis on Low Income Subsidy. Learn how Devoted can support you this AEP season! You won’t want to miss this exclusive event for Fidelis agents. \nClick here to join! \n  \n\n\n\n\n\n\nNever Miss an Update by Updating Your Contact Preferences and Following Us on Social Media! 
URL:https://fidelisagents.com/event/aep-readiness-with-devoted-and-fidelis/
LOCATION:Google Meet
CATEGORIES:Colorado
ATTACH;FMTTYPE=image/png:https://fidelisagents.com/wp-content/uploads/2025/08/done-2.png
END:VEVENT
BEGIN:VEVENT
DTSTART;TZID=America/Phoenix:20250926T100000
DTEND;TZID=America/Phoenix:20250926T110000
DTSTAMP:20260421T094657
CREATED:20250915T173052Z
LAST-MODIFIED:20250925T165125Z
UID:41166-1758880800-1758884400@fidelisagents.com
SUMMARY:Scaling Your Business & Building A Professional Network with Eric Neria
DESCRIPTION:Join us for an exciting webinar opportunity with special guest\, Eric Neria from Blue Shield. You won’t want to miss this chance to expand your network\, more details to come. \nClick here to join!  \nPassword: FIDELIS \n  \n\n\n\n\n\n\n\n\n\n\n\n\n\n\n\n\nNever Miss an Update by Updating Your Contact Preferences and Following Us on Social Media! 
URL:https://fidelisagents.com/event/scaling-your-business-building-a-professional-network-with-eric-neria/
LOCATION:Zoom
CATEGORIES:Arizona,Colorado,National,New Mexico
ATTACH;FMTTYPE=image/png:https://fidelisagents.com/wp-content/uploads/2025/09/Generic-Website-Headers-9.png
END:VEVENT
BEGIN:VEVENT
DTSTART;TZID=America/Phoenix:20250930T100000
DTEND;TZID=America/Phoenix:20250930T110000
DTSTAMP:20260421T094657
CREATED:20250827T232604Z
LAST-MODIFIED:20250827T232604Z
UID:40505-1759226400-1759230000@fidelisagents.com
SUMMARY:The Med Supp Education Series: The WoodmenLife Med Supp Showcase
DESCRIPTION:We’re thrilled to introduce WoodmenLife’s latest Medicare Supplement plans\, designed to enhance the value you provide to your clients! \nRegister today to offer outstanding value to your clients through WoodmenLife’s new Med Supp plans. \nClick here to register! \n  \nNever Miss an Update by Updating Your Contact Preferences and Following Us on Social Media! 
URL:https://fidelisagents.com/event/the-med-supp-education-series-the-woodmenlife-med-supp-showcase-4/
LOCATION:Zoom
CATEGORIES:Arizona,Colorado,National,New Mexico,Tennessee
ATTACH;FMTTYPE=image/png:https://fidelisagents.com/wp-content/uploads/2025/06/John-Colbaugh-Virtual-Event-Website-Header-20.png
END:VEVENT
BEGIN:VEVENT
DTSTART;TZID=America/Phoenix:20250930T110000
DTEND;TZID=America/Phoenix:20250930T120000
DTSTAMP:20260421T094657
CREATED:20250827T232504Z
LAST-MODIFIED:20250827T232504Z
UID:40503-1759230000-1759233600@fidelisagents.com
SUMMARY:The Med Supp Education Series: The AFLAC Med Supp Showcase
DESCRIPTION:Attending the Aflac Medicare Supplement webinar is a must for agents looking to elevate their portfolio and strengthen client relationships. \nThis webinar will leave you inspired to enrich your portfolio with Aflac\, a groundbreaking force in the world of Medicare Supplements. \nClick here to register!  \n  \n\n\n\n\n\n\n\n\n\n\n\n\n\n\n\nNever Miss an Update by Updating Your Contact Preferences and Following Us on Social Media! 
URL:https://fidelisagents.com/event/the-med-supp-education-series-the-aflac-med-supp-showcase-5/
LOCATION:Zoom
CATEGORIES:Arizona,Colorado,National,New Mexico,Tennessee
ATTACH;FMTTYPE=image/png:https://fidelisagents.com/wp-content/uploads/2025/06/John-Colbaugh-Virtual-Event-Website-Header-25.png
END:VEVENT
BEGIN:VEVENT
DTSTART;TZID=America/Phoenix:20250930T120000
DTEND;TZID=America/Phoenix:20250930T130000
DTSTAMP:20260421T094657
CREATED:20250827T232713Z
LAST-MODIFIED:20250827T232713Z
UID:40507-1759233600-1759237200@fidelisagents.com
SUMMARY:The Med Supp Education Series: The Mutual of Omaha Med Supp Showcase
DESCRIPTION:Join our webinar to hear about Mutual of Omaha’s legendary experience\, service and support in the Senior Health market. \nLearn about Mutual’s Med Supp and Dental products as well as tips\, tools\, resources and rewards so you can unlock an epic win in 2025 and beyond. \nClick here to register!  \n  \n\n\n\n\n\n\n\n\n\n\n\n\n\n\n\nNever Miss an Update by Updating Your Contact Preferences and Following Us on Social Media! 
URL:https://fidelisagents.com/event/the-med-supp-education-series-the-mutual-of-omaha-med-supp-showcase-2/
LOCATION:Zoom
CATEGORIES:Arizona,Colorado,National,New Mexico,Tennessee
ATTACH;FMTTYPE=image/png:https://fidelisagents.com/wp-content/uploads/2025/06/John-Colbaugh-Virtual-Event-Website-Header-14.png
END:VEVENT
BEGIN:VEVENT
DTSTART;TZID=America/Denver:20250930T120000
DTEND;TZID=America/Denver:20250930T130000
DTSTAMP:20260421T094657
CREATED:20250829T203020Z
LAST-MODIFIED:20250929T200203Z
UID:40911-1759233600-1759237200@fidelisagents.com
SUMMARY:Wellabe + Fidelis Product Refresh Training
DESCRIPTION:Enhance this AEP with Wellabe! \nDon’t miss this exclusive virtual product refresh training with Wellabe and Fidelis. Find out how Wellabe’s product portfolio can support you throughout the AEP season. \nClick here to register!  \n  \n\n\n\n\n\n\nNever Miss an Update by Updating Your Contact Preferences and Following Us on Social Media! 
URL:https://fidelisagents.com/event/wellabe-fidelis-product-refresh-training/
LOCATION:Zoom
CATEGORIES:Colorado
ATTACH;FMTTYPE=image/png:https://fidelisagents.com/wp-content/uploads/2025/08/Colorado-September-Website-Header.png
END:VEVENT
END:VCALENDAR