BEGIN:VCALENDAR
VERSION:2.0
PRODID:-//Fidelis - ECPv6.15.17.1//NONSGML v1.0//EN
CALSCALE:GREGORIAN
METHOD:PUBLISH
X-WR-CALNAME:Fidelis
X-ORIGINAL-URL:https://fidelisagents.com
X-WR-CALDESC:Events for Fidelis
REFRESH-INTERVAL;VALUE=DURATION:PT1H
X-Robots-Tag:noindex
X-PUBLISHED-TTL:PT1H
BEGIN:VTIMEZONE
TZID:America/Phoenix
BEGIN:STANDARD
TZOFFSETFROM:-0700
TZOFFSETTO:-0700
TZNAME:MST
DTSTART:20240101T000000
END:STANDARD
END:VTIMEZONE
BEGIN:VTIMEZONE
TZID:America/Denver
BEGIN:DAYLIGHT
TZOFFSETFROM:-0700
TZOFFSETTO:-0600
TZNAME:MDT
DTSTART:20240310T090000
END:DAYLIGHT
BEGIN:STANDARD
TZOFFSETFROM:-0600
TZOFFSETTO:-0700
TZNAME:MST
DTSTART:20241103T080000
END:STANDARD
BEGIN:DAYLIGHT
TZOFFSETFROM:-0700
TZOFFSETTO:-0600
TZNAME:MDT
DTSTART:20250309T090000
END:DAYLIGHT
BEGIN:STANDARD
TZOFFSETFROM:-0600
TZOFFSETTO:-0700
TZNAME:MST
DTSTART:20251102T080000
END:STANDARD
BEGIN:DAYLIGHT
TZOFFSETFROM:-0700
TZOFFSETTO:-0600
TZNAME:MDT
DTSTART:20260308T090000
END:DAYLIGHT
BEGIN:STANDARD
TZOFFSETFROM:-0600
TZOFFSETTO:-0700
TZNAME:MST
DTSTART:20261101T080000
END:STANDARD
END:VTIMEZONE
BEGIN:VEVENT
DTSTART;TZID=America/Phoenix:20250808T070000
DTEND;TZID=America/Phoenix:20250808T080000
DTSTAMP:20260421T111548
CREATED:20250731T170145Z
LAST-MODIFIED:20250731T202702Z
UID:39905-1754636400-1754640000@fidelisagents.com
SUMMARY:The Med Supp Education Series: The INA Med Supp Showcase
DESCRIPTION:If you’re looking to pump some new blood into your Med Supp portfolio (and aren’t we all!?) then look no further. \nWe’re so excited for the launch of this exciting\, new Medicare Supplement from INA – and we can’t wait to see what amazing things we can accomplish together with products like this\, and your entire suite of INTEGRITY PROPRIETARY PRODUCTS on our side! \nClick here to register!  \n  \n\n\nNever Miss an Update by Updating Your Contact Preferences and Following Us on Social Media! 
URL:https://fidelisagents.com/event/the-med-supp-education-series-the-ina-med-supp-showcase-3/
LOCATION:Zoom
CATEGORIES:Arizona,Colorado,National,New Mexico,Tennessee
ATTACH;FMTTYPE=image/png:https://fidelisagents.com/wp-content/uploads/2025/06/John-Colbaugh-Virtual-Event-Website-Header-16.png
END:VEVENT
BEGIN:VEVENT
DTSTART;TZID=America/Phoenix:20250811T100000
DTEND;TZID=America/Phoenix:20250811T110000
DTSTAMP:20260421T111548
CREATED:20250731T170054Z
LAST-MODIFIED:20250731T202656Z
UID:39909-1754906400-1754910000@fidelisagents.com
SUMMARY:The Med Supp Education Series: Plan N For The Win!
DESCRIPTION:Join us for an exclusive webinar\, “Plan N for the Win\,” and discover how to transform obstacles into victories. \nKey Highlights: \n\n Understand Plan N: Dive deep into the lower cost\, cost-sharing benefits of Plan N\, a plan the market desires.\nHistory Lesson: Learn from the transition from Plan F to Plan G and how early adopters gained an edge.\nPlan N Advantages Today: Increased commissions\, lower premiums\, and strategic co-pays make Plan N a triple win for clients\, agents\, and carriers.\nFuture Focused: Explore how Plan N’s current success is just the beginning of its growth potential\n\nWith agents already harnessing the power of Plan N\, don’t miss your chance to get ahead. \nClick here to register! \n  \n\n\nNever Miss an Update by Updating Your Contact Preferences and Following Us on Social Media! 
URL:https://fidelisagents.com/event/the-med-supp-education-series-plan-n-for-the-win-3/
LOCATION:Zoom
CATEGORIES:Arizona,Colorado,National,New Mexico,Tennessee
ATTACH;FMTTYPE=image/png:https://fidelisagents.com/wp-content/uploads/2025/06/John-Colbaugh-Virtual-Event-Website-Header-23.png
END:VEVENT
BEGIN:VEVENT
DTSTART;TZID=America/Phoenix:20250811T120000
DTEND;TZID=America/Phoenix:20250811T130000
DTSTAMP:20260421T111548
CREATED:20250731T170221Z
LAST-MODIFIED:20250731T202651Z
UID:39913-1754913600-1754917200@fidelisagents.com
SUMMARY:The Med Supp Education Series: How To Present Short Term Care
DESCRIPTION:New to the senior market or looking to learn about Short-Term Care products for your clients? This is the Webinar for you. \nIn this Can’t miss event for the Senior Market Agent\, we will discuss: \n\nWho Needs Short-Term Care?\nHow Much do they need?\nHow to present STC to your client.\n\nDon’t miss this opportunity to help you learn more about the Short-term care market to better protect your clients. \nClick here to register! \n  \n\n\nNever Miss an Update by Updating Your Contact Preferences and Following Us on Social Media! 
URL:https://fidelisagents.com/event/the-med-supp-education-series-how-to-present-short-term-care-3/
LOCATION:Zoom
CATEGORIES:Arizona,Colorado,National,New Mexico,Tennessee
ATTACH;FMTTYPE=image/png:https://fidelisagents.com/wp-content/uploads/2025/06/John-Colbaugh-Virtual-Event-Website-Header-22.png
END:VEVENT
BEGIN:VEVENT
DTSTART;TZID=America/Phoenix:20250813T120000
DTEND;TZID=America/Phoenix:20250813T130000
DTSTAMP:20260421T111548
CREATED:20250731T170309Z
LAST-MODIFIED:20250731T202645Z
UID:39918-1755086400-1755090000@fidelisagents.com
SUMMARY:The Med Supp Education Series: Mastering The Mystery Of Med Supp - Part 1
DESCRIPTION:Join us as we embark on a journey to uncover the compelling reasons behind why 1 in 3 clients are embracing the power of Medicare Supplements. \nMedicare Supplements\, or Medigap plans\, are the missing puzzle piece that completes your Medicare coverage\, elevating it to new heights. In this exclusive event\, we will guide you through the compelling reasons why these plans have always been an absolute must-have for anyone seeking optimal protection and peace of mind. \nClick here to register! \n  \n\n\nNever Miss an Update by Updating Your Contact Preferences and Following Us on Social Media! 
URL:https://fidelisagents.com/event/the-med-supp-education-series-mastering-the-mystery-of-med-supp-part-1-3/
LOCATION:Zoom
CATEGORIES:Arizona,Colorado,National,New Mexico,Tennessee
ATTACH;FMTTYPE=image/png:https://fidelisagents.com/wp-content/uploads/2025/06/John-Colbaugh-Virtual-Event-Website-Header-21.png
END:VEVENT
BEGIN:VEVENT
DTSTART;TZID=America/Phoenix:20250814T110000
DTEND;TZID=America/Phoenix:20250814T120000
DTSTAMP:20260421T111548
CREATED:20250731T170347Z
LAST-MODIFIED:20250731T202631Z
UID:39921-1755169200-1755172800@fidelisagents.com
SUMMARY:The Med Supp Education Series: The AFLAC Med Supp Showcase
DESCRIPTION:Are you an agent searching for an exceptional opportunity to expand your portfolio and offer top-notch coverage to your clients? Look no further! \nBy adding Aflac Medicare Supplement to your portfolio\, you instantly tap into this established brand’s credibility\, giving your clients the peace of mind they deserve when making important healthcare decisions. \nClick here to register!  \n  \n\n\nNever Miss an Update by Updating Your Contact Preferences and Following Us on Social Media! 
URL:https://fidelisagents.com/event/the-med-supp-education-series-the-aflac-med-supp-showcase-4/
LOCATION:Zoom
CATEGORIES:Arizona,Colorado,National,New Mexico,Tennessee
ATTACH;FMTTYPE=image/png:https://fidelisagents.com/wp-content/uploads/2025/06/John-Colbaugh-Virtual-Event-Website-Header-25.png
END:VEVENT
BEGIN:VEVENT
DTSTART;TZID=America/Phoenix:20250814T120000
DTEND;TZID=America/Phoenix:20250814T130000
DTSTAMP:20260421T111548
CREATED:20250731T171031Z
LAST-MODIFIED:20250731T202623Z
UID:39924-1755172800-1755176400@fidelisagents.com
SUMMARY:The Med Supp Education Series: Mastering The Mystery Of Med Supp - Part 2
DESCRIPTION:New to Medicare Supplements or the Senior Market? Join our webinar to excel in identifying Med Supp clients! \nIn this webinar\, we’ll dive into the strategies for pinpointing Med Supp clients\, crucial for thriving in this market. You’ll learn to: \n\nGrasp Key Demographics\nHighlight Sought-after Benefits\n\nClick here to register!  \n  \n\n\nNever Miss an Update by Updating Your Contact Preferences and Following Us on Social Media! 
URL:https://fidelisagents.com/event/the-med-supp-education-series-mastering-the-mystery-of-med-supp-part-2-3/
LOCATION:Zoom
CATEGORIES:Arizona,Colorado,National,New Mexico,Tennessee
ATTACH;FMTTYPE=image/png:https://fidelisagents.com/wp-content/uploads/2025/06/John-Colbaugh-Virtual-Event-Website-Header-21.png
END:VEVENT
BEGIN:VEVENT
DTSTART;TZID=America/Phoenix:20250815T073000
DTEND;TZID=America/Phoenix:20250815T083000
DTSTAMP:20260421T111548
CREATED:20250731T171359Z
LAST-MODIFIED:20250731T202617Z
UID:39927-1755243000-1755246600@fidelisagents.com
SUMMARY:The Med Supp Education Series: The Cigna Med Supp Showcase
DESCRIPTION:Join us for an exclusive webinar designed to help you maximize your potential with Cigna’s Medicare Supplement offerings. \nThis must-attend session will provide valuable insights into how you can offer greater value to your clients while enhancing your earning potential as an agent. \nClick here to register!  \n  \n\n\nNever Miss an Update by Updating Your Contact Preferences and Following Us on Social Media! 
URL:https://fidelisagents.com/event/the-med-supp-education-series-the-cigna-med-supp-showcase-3/
LOCATION:Zoom
CATEGORIES:Arizona,Colorado,National,New Mexico,Tennessee
ATTACH;FMTTYPE=image/png:https://fidelisagents.com/wp-content/uploads/2025/06/John-Colbaugh-Virtual-Event-Website-Header-18.png
END:VEVENT
BEGIN:VEVENT
DTSTART;TZID=America/Phoenix:20250820T120000
DTEND;TZID=America/Phoenix:20250820T130000
DTSTAMP:20260421T111548
CREATED:20250731T171529Z
LAST-MODIFIED:20250731T202610Z
UID:39930-1755691200-1755694800@fidelisagents.com
SUMMARY:The Med Supp Education Series: The Humana Med Supp Showcase
DESCRIPTION:Join us for a comprehensive webinar to explore the exciting value props of the Humana Achieve Medicare Supplement\, one of the leading Med Supp products on the market today! \nA few of our favorite Humana Achieve Med Supp features: \n\nEnhanced Household Discount\nIndustry Leading Incentive program\nRate Reductions and Rate Holds\nClient Value-Adds\n\nClick here to register!  \n  \n\n\nNever Miss an Update by Updating Your Contact Preferences and Following Us on Social Media! 
URL:https://fidelisagents.com/event/the-med-supp-education-series-the-humana-med-supp-showcase-3/
LOCATION:Zoom
CATEGORIES:Arizona,Colorado,National,New Mexico,Tennessee
ATTACH;FMTTYPE=image/png:https://fidelisagents.com/wp-content/uploads/2025/06/John-Colbaugh-Virtual-Event-Website-Header-17.png
END:VEVENT
BEGIN:VEVENT
DTSTART;TZID=America/Phoenix:20250821T080000
DTEND;TZID=America/Phoenix:20250821T090000
DTSTAMP:20260421T111548
CREATED:20250731T171638Z
LAST-MODIFIED:20250731T202604Z
UID:39933-1755763200-1755766800@fidelisagents.com
SUMMARY:The Med Supp Education Series: The WoodmenLife Med Supp Showcase
DESCRIPTION:We’re thrilled to introduce WoodmenLife’s latest Medicare Supplement plans\, designed to enhance the value you provide to your clients! \nEnhanced Client Benefits: \n\n Access to Online Legal Templates\nExclusive Retail Discounts\nFinancial Assistance for Natural Disasters\n $25\,000 Coverage for Families of First Responder Members\nExciting Community Volunteer Opportunities\n\nClick here to register! \n  \n\n\nNever Miss an Update by Updating Your Contact Preferences and Following Us on Social Media! 
URL:https://fidelisagents.com/event/the-med-supp-education-series-the-woodmenlife-med-supp-showcase-3/
LOCATION:Zoom
CATEGORIES:Arizona,Colorado,National,New Mexico,Tennessee
ATTACH;FMTTYPE=image/png:https://fidelisagents.com/wp-content/uploads/2025/06/John-Colbaugh-Virtual-Event-Website-Header-20.png
END:VEVENT
BEGIN:VEVENT
DTSTART;TZID=America/Phoenix:20250821T120000
DTEND;TZID=America/Phoenix:20250821T130000
DTSTAMP:20260421T111548
CREATED:20250731T171801Z
LAST-MODIFIED:20250731T201334Z
UID:39936-1755777600-1755781200@fidelisagents.com
SUMMARY:The Med Supp Education Series: Bankers Fidelity
DESCRIPTION:New to the senior market or looking to learn about Hospital Indemnity products for your clients? This is the Webinar for you. \nWe will dive into product details as well as highlight the some of the How-To aspects of this must have product for seniors! \nClick here to register!  \n  \n\n\nNever Miss an Update by Updating Your Contact Preferences and Following Us on Social Media! 
URL:https://fidelisagents.com/event/the-med-supp-education-series-bankers-fidelity-2/
LOCATION:Zoom
CATEGORIES:Arizona,Colorado,National,New Mexico,Tennessee
ATTACH;FMTTYPE=image/png:https://fidelisagents.com/wp-content/uploads/2025/07/John-Colbaugh-Virtual-Event-Website-Header-2.png
END:VEVENT
BEGIN:VEVENT
DTSTART;TZID=America/Phoenix:20250825T120000
DTEND;TZID=America/Phoenix:20250825T130000
DTSTAMP:20260421T111548
CREATED:20250731T172126Z
LAST-MODIFIED:20250731T201326Z
UID:39940-1756123200-1756126800@fidelisagents.com
SUMMARY:The Med Supp Eduction Series: The Client Needs Assesment
DESCRIPTION:Take better care of your clients by unlocking the power of a Client Needs Assessment. \nJoin us for an exclusive webinar that will empower you to enhance your insurance career and prioritize your clients like never before. Discover the secret to success by incorporating a Client Needs Assessment (CNA) into your toolkit\, ultimately boosting your ancillary sales. \nClick here to register!  \n  \n\n\n\nNever Miss an Update by Updating Your Contact Preferences and Following Us on Social Media! 
URL:https://fidelisagents.com/event/the-med-supp-eduction-series-the-client-needs-assesment/
LOCATION:Zoom
CATEGORIES:Arizona,Colorado,National,New Mexico,Tennessee
ATTACH;FMTTYPE=image/png:https://fidelisagents.com/wp-content/uploads/2025/06/John-Colbaugh-Virtual-Event-Website-Header-24.png
END:VEVENT
BEGIN:VEVENT
DTSTART;TZID=America/Denver:20250826T140000
DTEND;TZID=America/Denver:20250826T160000
DTSTAMP:20260421T111548
CREATED:20250729T172722Z
LAST-MODIFIED:20250729T172722Z
UID:39492-1756216800-1756224000@fidelisagents.com
SUMMARY:Devoted + Fidelis’ Pre-Rollout Plan Preview
DESCRIPTION:We’re Rolling Out The Red Carpet For Devoted!\nYou are invited to join your Colorado Devoted and Fidelis teams for a Devoted Pre-Rollout event\, exclusively for Fidelis brokers. Please join us to learn Devoted’s plan offerings for 2026 and get your questions answered at this personal in-office event.\nMake sure to RSVP to secure your spot\, we’ll see you there! \nClick here to RSVP! \n  \n\n\nNever Miss an Update by Updating Your Contact Preferences and Following Us on Social Media! 
URL:https://fidelisagents.com/event/devoted-fidelis-pre-rollout-plan-preview/
LOCATION:Fidelis Colorado Office\, 12170 Tejon St.\, Ste. 1100\, Westminster\, CO\, 80234\, United States
CATEGORIES:Colorado
ATTACH;FMTTYPE=image/png:https://fidelisagents.com/wp-content/uploads/2025/07/Devoted-Fidelis-Pre-Rollout-Plan-Preview-Header-2.png
ORGANIZER;CN="Marisa Kanold":MAILTO:marisa@fidelisins.com
END:VEVENT
BEGIN:VEVENT
DTSTART;TZID=America/Phoenix:20250827T100000
DTEND;TZID=America/Phoenix:20250827T110000
DTSTAMP:20260421T111548
CREATED:20250731T233936Z
LAST-MODIFIED:20250731T233936Z
UID:39970-1756288800-1756292400@fidelisagents.com
SUMMARY:National Webinar: Life And Long-Term Care Solutions with Mutual of Omaha
DESCRIPTION:Join us for an exclusive session with Mutual of Omaha to explore their diverse portfolio of offerings designed to support your clients’ evolving needs. Don’t miss this opportunity to deepen your product knowledge and strengthen your client conversations.   \nWhat you will learn: \n-Gain insight into all the products they offer \n-Why you should be having conversations with your clients around their Life Insurance and Long-Term Care Insurance needs \n-Solutions to assist you in helping your clients plan for a secure financial future \nClick here to register! \n  \n\n\n\nNever Miss an Update by Updating Your Contact Preferences and Following Us on Social Media! 
URL:https://fidelisagents.com/event/national-webinar-life-and-long-term-care-solutions-with-mutual-of-omaha/
LOCATION:Zoom
CATEGORIES:Arizona,Colorado,National,New Mexico,Tennessee
ATTACH;FMTTYPE=image/png:https://fidelisagents.com/wp-content/uploads/2025/07/August-Website-Header.png
ORGANIZER;CN="Nick Santmyer":MAILTO:Nick@fidelisins.com
END:VEVENT
BEGIN:VEVENT
DTSTART;TZID=America/Phoenix:20250828T120000
DTEND;TZID=America/Phoenix:20250828T130000
DTSTAMP:20260421T111548
CREATED:20250731T173944Z
LAST-MODIFIED:20250731T201301Z
UID:39948-1756382400-1756386000@fidelisagents.com
SUMMARY:Integrity Webinar - 2025 Market Update and AEP Success!
DESCRIPTION:Join us as we reunite for “Market Disruptions & AEP Success\,” where we’ll unpack the latest in Medicare Advantage\, PDP\, and Medicare Supplement markets and set you up to dominate AEP 2025. \nHere’s the setlist: \n\nMarket Disruptions Unraveled: The latest regulatory shifts shaking up the MAPD landscape and what they mean for you.\nAEP 2026 Forecast: A sneak peek at trends and strategies to keep you ahead of the game.\nMedicare Supplement Spotlight: Why carriers are rolling out major rate hikes and how to navigate these changes for your clients.\n\nClick here to register! \n  \n\n\n\n\n\n\n\n\n\n\n\n\n\nNever Miss an Update by Updating Your Contact Preferences and Following Us on Social Media! 
URL:https://fidelisagents.com/event/integrity-webinar-2025-market-update-and-aep-success/
LOCATION:Zoom
CATEGORIES:Arizona,Colorado,National,New Mexico,Tennessee
ATTACH;FMTTYPE=image/png:https://fidelisagents.com/wp-content/uploads/2025/07/Generic-Website-Headers-1.png
END:VEVENT
BEGIN:VEVENT
DTSTART;TZID=America/Phoenix:20250829T080000
DTEND;TZID=America/Phoenix:20250829T090000
DTSTAMP:20260421T111548
CREATED:20250731T173838Z
LAST-MODIFIED:20250731T201151Z
UID:39942-1756454400-1756458000@fidelisagents.com
SUMMARY:The Med Supp Education Series: The Wellabe Med Supp Showcase
DESCRIPTION:Join us for an exclusive Wellabe Webinar as we take you on a journey through our rich 95-year history\, a legacy of excellence in healthcare. \nIn this webinar\, we will unveil our latest breakthrough – an unparalleled Short Term Care product designed to bridge the gaps in coverage for your senior clients. Learn how it can provide them with the comprehensive care they deserve. \nClick here to register!  \n  \n\n\nNever Miss an Update by Updating Your Contact Preferences and Following Us on Social Media! 
URL:https://fidelisagents.com/event/the-med-supp-education-series-the-wellabe-med-supp-showcase-3/
LOCATION:Zoom
CATEGORIES:Arizona,Colorado,National,New Mexico,Tennessee
ATTACH;FMTTYPE=image/png:https://fidelisagents.com/wp-content/uploads/2025/06/John-Colbaugh-Virtual-Event-Website-Header-19.png
END:VEVENT
END:VCALENDAR