BEGIN:VCALENDAR
VERSION:2.0
PRODID:-//Fidelis - ECPv6.15.17.1//NONSGML v1.0//EN
CALSCALE:GREGORIAN
METHOD:PUBLISH
X-WR-CALNAME:Fidelis
X-ORIGINAL-URL:https://fidelisagents.com
X-WR-CALDESC:Events for Fidelis
REFRESH-INTERVAL;VALUE=DURATION:PT1H
X-Robots-Tag:noindex
X-PUBLISHED-TTL:PT1H
BEGIN:VTIMEZONE
TZID:America/Denver
BEGIN:DAYLIGHT
TZOFFSETFROM:-0700
TZOFFSETTO:-0600
TZNAME:MDT
DTSTART:20250309T090000
END:DAYLIGHT
BEGIN:STANDARD
TZOFFSETFROM:-0600
TZOFFSETTO:-0700
TZNAME:MST
DTSTART:20251102T080000
END:STANDARD
BEGIN:DAYLIGHT
TZOFFSETFROM:-0700
TZOFFSETTO:-0600
TZNAME:MDT
DTSTART:20260308T090000
END:DAYLIGHT
BEGIN:STANDARD
TZOFFSETFROM:-0600
TZOFFSETTO:-0700
TZNAME:MST
DTSTART:20261101T080000
END:STANDARD
BEGIN:DAYLIGHT
TZOFFSETFROM:-0700
TZOFFSETTO:-0600
TZNAME:MDT
DTSTART:20270314T090000
END:DAYLIGHT
BEGIN:STANDARD
TZOFFSETFROM:-0600
TZOFFSETTO:-0700
TZNAME:MST
DTSTART:20271107T080000
END:STANDARD
END:VTIMEZONE
BEGIN:VEVENT
DTSTART;TZID=America/Denver:20260128T100000
DTEND;TZID=America/Denver:20260128T110000
DTSTAMP:20260419T063530
CREATED:20260113T004044Z
LAST-MODIFIED:20260113T173202Z
UID:44329-1769594400-1769598000@fidelisagents.com
SUMMARY:National Webinar: Building a Scalable Agency with Life & Annuities
DESCRIPTION:Kick off the new year with a strategic\, growth-focused National Webinar featuring special guest speakers! This session is designed for agencies and downline agents looking to expand their product offerings\, strengthen their foundations\, and create new revenue opportunities. \nIn this webinar\, they’ll cover: \n\nWhy offer Life and Annuities?\nUnderstanding Annuities\nUnderstanding Life Insurance\nHow to Get Started:\n\nRequesting Carrier Contracts\nUtilizing the Business Builder Platform\nSubmitting Applications\nAccessing Your Full-Service Support Team\n\n\n\nIf you’re looking to start the year with clearer direction and diversified product strategies to support your agency’s growth\, this webinar is a great place to begin. \n  \nClick Here to Register Now. We hope to see you there! \n  \n\n\n\n\n\n\n\nNever Miss an Update by Updating Your Contact Preferences and Following Us on Social Media! 
URL:https://fidelisagents.com/event/national-webinar-building-a-scalable-agency-with-life-annuities/
LOCATION:Zoom
CATEGORIES:Arizona,Colorado,National,New Mexico,Tennessee
ATTACH;FMTTYPE=image/png:https://fidelisagents.com/wp-content/uploads/2026/01/January-Website-Header.png
END:VEVENT
END:VCALENDAR