BEGIN:VCALENDAR
VERSION:2.0
PRODID:-//Fidelis - ECPv6.15.17.1//NONSGML v1.0//EN
CALSCALE:GREGORIAN
METHOD:PUBLISH
X-WR-CALNAME:Fidelis
X-ORIGINAL-URL:https://fidelisagents.com
X-WR-CALDESC:Events for Fidelis
REFRESH-INTERVAL;VALUE=DURATION:PT1H
X-Robots-Tag:noindex
X-PUBLISHED-TTL:PT1H
BEGIN:VTIMEZONE
TZID:America/Phoenix
BEGIN:STANDARD
TZOFFSETFROM:-0700
TZOFFSETTO:-0700
TZNAME:MST
DTSTART:20240101T000000
END:STANDARD
END:VTIMEZONE
BEGIN:VEVENT
DTSTART;TZID=America/Phoenix:20250603T150000
DTEND;TZID=America/Phoenix:20250603T170000
DTSTAMP:20260419T173727
CREATED:20250212T161644Z
LAST-MODIFIED:20250212T162735Z
UID:33887-1748962800-1748970000@fidelisagents.com
SUMMARY:Contracting Connect Sessions
DESCRIPTION:The Fidelis Contracting Team is opening their calendars to you for booking! \n\nReview Your Contracts\nAsk Questions\n& Get What You Need!\n\nTheir calendars will be open for booking Tuesdays from 3:00 PM – 5:00 PM. We are excited to offer this new resource to you! Click the link to book yours today! \nClick Here to Book! \n  \n\nNever Miss an Update by Updating Your Contact Preferences and Following Us on Social Media!
URL:https://fidelisagents.com/event/contracting-connect-sessions-16/
LOCATION:Microsoft Teams
CATEGORIES:Arizona,Colorado,National,New Mexico,Tennessee
ATTACH;FMTTYPE=image/png:https://fidelisagents.com/wp-content/uploads/2025/02/Copy-of-Contract-Connect-Sessions-FB-Post.png
END:VEVENT
BEGIN:VEVENT
DTSTART;TZID=America/Phoenix:20250604T100000
DTEND;TZID=America/Phoenix:20250604T110000
DTSTAMP:20260419T173727
CREATED:20250421T205851Z
LAST-MODIFIED:20250421T205851Z
UID:35852-1749031200-1749034800@fidelisagents.com
SUMMARY:National Webinar: Using MedicareCENTER as a Growth and Retention Tool
DESCRIPTION:This National Webinar will give you a clear roadmap to protect your business\, your clients\, and your financial future. \nIn This Session\, You’ll Discover How To:  \n\nUtilize MedicareCENTER to capitalize on AEP 2026!\nHear about the latest enhancements and features to help you succeed\nLearn strategies to help you work smarter\, not harder while increasing retention\nFamiliarize yourself with must-know features to stay prepared for the AEP season\n\nThis webinar will give you the strategies and insights to take your Medicare business to the NEXT LEVEL. Don’t Miss This! \nClick here to Register!  \nNever Miss an Update by Updating Your Contact Preferences and Following Us on Social Media! 
URL:https://fidelisagents.com/event/national-webinar-using-medicarecenter-as-a-growth-and-retention-tool/
LOCATION:Zoom
CATEGORIES:Arizona,Colorado,National,New Mexico,Tennessee
ATTACH;FMTTYPE=image/png:https://fidelisagents.com/wp-content/uploads/2025/04/June-Website-Header.png
ORGANIZER;CN="Marisa Kanold":MAILTO:marisa@fidelisins.com
END:VEVENT
BEGIN:VEVENT
DTSTART;TZID=America/Phoenix:20250611T100000
DTEND;TZID=America/Phoenix:20250611T113000
DTSTAMP:20260419T173727
CREATED:20250606T222718Z
LAST-MODIFIED:20250606T222718Z
UID:37844-1749636000-1749641400@fidelisagents.com
SUMMARY:AEP Preparation With UnitedHealthcare
DESCRIPTION:AEP Preparation season is in full swing! Join guest speaker Matt Bloom from UnitedHealthcare as he walks you through everything you need to do right now to ensure you have a great AEP this year. \nThis exclusive event at the Fidelis Arizona office will be held on June 11th from 10 AM to 11:30 AM. \nThose who attend in person will have a strong advantage. Space is limited. RSVP to Karrie@fidelisins.com \n  \n\n\n\nNever Miss an Update by Updating Your Contact Preferences and Following Us on Social Media!
URL:https://fidelisagents.com/event/aep-preparation-with-unitedhealthcare/
LOCATION:Fidelis Arizona Office\, 1757 E Baseline Rd. Ste 141\, Gilbert\, AZ\, 85233\, United States
CATEGORIES:Arizona
ATTACH;FMTTYPE=image/png:https://fidelisagents.com/wp-content/uploads/2025/06/AEP-Prep-with-UHC-Website-Header.png
ORGANIZER;CN="Karrie DeVore":MAILTO:Karrie@fidelisins.com
END:VEVENT
BEGIN:VEVENT
DTSTART;TZID=America/Phoenix:20250624T093000
DTEND;TZID=America/Phoenix:20250624T110000
DTSTAMP:20260419T173727
CREATED:20250617T225901Z
LAST-MODIFIED:20250617T225901Z
UID:37846-1750757400-1750762800@fidelisagents.com
SUMMARY:Donuts with Devoted: Guided 2026 Certification with Joan Gilmour
DESCRIPTION:Devoted opens 2026 plan certification on June 24th\, and we’re celebrating with Joan Gilmour at the Fidelis Arizona office! \nPlease bring your computer for this Fidelis-exclusive opportunity as Joan leads you through your Devoted certification steps live and answers your questions. She may also be able to share a few tips to prepare you for success in 2026. Don’t miss it! \nAGENDA:\n9:30 AM – 10 AM Donuts & Coffee with Joan\n10 AM : Joan Gilmour will guide everyone through Devoted 2026 Certification together – Bring your computers!\nQ & A and a few 2026 Plan insights will be shared during the live session. \nPlease RSVP to Karrie@fidelisins.com! \n  \n\n\n\nNever Miss an Update by Updating Your Contact Preferences and Following Us on Social Media!
URL:https://fidelisagents.com/event/donuts-with-devoted-guided-2026-certification-with-joan-gilmour/
LOCATION:Fidelis Arizona Office\, 1757 E Baseline Rd. Ste 141\, Gilbert\, AZ\, 85233\, United States
CATEGORIES:Arizona
ATTACH;FMTTYPE=image/png:https://fidelisagents.com/wp-content/uploads/2025/06/Devoted-Donuts-Guided-2026-Certification-Website-Header.png
ORGANIZER;CN="Karrie DeVore":MAILTO:Karrie@fidelisins.com
END:VEVENT
END:VCALENDAR