BEGIN:VCALENDAR
VERSION:2.0
PRODID:-//Fidelis - ECPv6.15.17.1//NONSGML v1.0//EN
CALSCALE:GREGORIAN
METHOD:PUBLISH
X-WR-CALNAME:Fidelis
X-ORIGINAL-URL:https://fidelisagents.com
X-WR-CALDESC:Events for Fidelis
REFRESH-INTERVAL;VALUE=DURATION:PT1H
X-Robots-Tag:noindex
X-PUBLISHED-TTL:PT1H
BEGIN:VTIMEZONE
TZID:America/Denver
BEGIN:DAYLIGHT
TZOFFSETFROM:-0700
TZOFFSETTO:-0600
TZNAME:MDT
DTSTART:20250309T090000
END:DAYLIGHT
BEGIN:STANDARD
TZOFFSETFROM:-0600
TZOFFSETTO:-0700
TZNAME:MST
DTSTART:20251102T080000
END:STANDARD
BEGIN:DAYLIGHT
TZOFFSETFROM:-0700
TZOFFSETTO:-0600
TZNAME:MDT
DTSTART:20260308T090000
END:DAYLIGHT
BEGIN:STANDARD
TZOFFSETFROM:-0600
TZOFFSETTO:-0700
TZNAME:MST
DTSTART:20261101T080000
END:STANDARD
BEGIN:DAYLIGHT
TZOFFSETFROM:-0700
TZOFFSETTO:-0600
TZNAME:MDT
DTSTART:20270314T090000
END:DAYLIGHT
BEGIN:STANDARD
TZOFFSETFROM:-0600
TZOFFSETTO:-0700
TZNAME:MST
DTSTART:20271107T080000
END:STANDARD
END:VTIMEZONE
BEGIN:VEVENT
DTSTART;TZID=America/Denver:20260421T100000
DTEND;TZID=America/Denver:20260421T110000
DTSTAMP:20260421T013739
CREATED:20260408T223842Z
LAST-MODIFIED:20260408T223842Z
UID:47486-1776765600-1776769200@fidelisagents.com
SUMMARY:Diversifying Your Business with Life Insurance
DESCRIPTION:Ready to sharpen your skills and pick up tips you can use right away? Join us for a virtual training with Brad Weber from Brokers International! \nIn this live session\, we’ll: \n\nExplore the quoting tool\nDive into life insurance solutions\nWalk through the Business Builder step by step\nWrap it all up with a live Q&A\n\nSave your spot\, mark your calendar\, and get ready to level up. We can’t wait to see you there! \nClick Here to Register! \n  \n\n\n\n\n\n\n\n\n\n\nNever Miss an Update by Updating Your Contact Preferences and Following Us on Social Media!
URL:https://fidelisagents.com/event/diversifying-your-business-with-life-insurance/
LOCATION:Zoom
CATEGORIES:New Mexico
ATTACH;FMTTYPE=image/png:https://fidelisagents.com/wp-content/uploads/2026/04/Diversifying-Your-Business-with-Life-Insurance-New-Mexico-Local-Event-Email-Template-Components-2026-1.png
ORGANIZER;CN="Brad Woolard":MAILTO:bradley@fidelisins.com
END:VEVENT
END:VCALENDAR