BEGIN:VCALENDAR
VERSION:2.0
PRODID:-//Fidelis - ECPv6.15.17.1//NONSGML v1.0//EN
CALSCALE:GREGORIAN
METHOD:PUBLISH
X-WR-CALNAME:Fidelis
X-ORIGINAL-URL:https://fidelisagents.com
X-WR-CALDESC:Events for Fidelis
REFRESH-INTERVAL;VALUE=DURATION:PT1H
X-Robots-Tag:noindex
X-PUBLISHED-TTL:PT1H
BEGIN:VTIMEZONE
TZID:America/Phoenix
BEGIN:STANDARD
TZOFFSETFROM:-0700
TZOFFSETTO:-0700
TZNAME:MST
DTSTART:20240101T000000
END:STANDARD
END:VTIMEZONE
BEGIN:VEVENT
DTSTART;TZID=America/Phoenix:20250731T090000
DTEND;TZID=America/Phoenix:20250731T100000
DTSTAMP:20260419T123825
CREATED:20250625T174021Z
LAST-MODIFIED:20250731T202708Z
UID:38376-1753952400-1753956000@fidelisagents.com
SUMMARY:The Med Supp Education Series: The Mutual of Omaha Med Supp Showcase
DESCRIPTION:Mutual of Omaha has been a staple of the Med Supp Industry for years. Let’s us dive deeper into their stable of products in this great session. \nIn this webinar\, hear the exciting details about a new Hospital Indemnity Plan offered by Mutual of Omaha. \nClick here to register!  \n  \n\nNever Miss an Update by Updating Your Contact Preferences and Following Us on Social Media! 
URL:https://fidelisagents.com/event/the-med-supp-education-series-the-mutual-of-omaha-med-supp-showcase/
LOCATION:Zoom
CATEGORIES:Arizona,Colorado,National,New Mexico,Tennessee
ATTACH;FMTTYPE=image/png:https://fidelisagents.com/wp-content/uploads/2025/06/John-Colbaugh-Virtual-Event-Website-Header-14.png
END:VEVENT
END:VCALENDAR