BEGIN:VCALENDAR
VERSION:2.0
PRODID:-//Fidelis - ECPv6.15.17.1//NONSGML v1.0//EN
CALSCALE:GREGORIAN
METHOD:PUBLISH
X-WR-CALNAME:Fidelis
X-ORIGINAL-URL:https://fidelisagents.com
X-WR-CALDESC:Events for Fidelis
REFRESH-INTERVAL;VALUE=DURATION:PT1H
X-Robots-Tag:noindex
X-PUBLISHED-TTL:PT1H
BEGIN:VTIMEZONE
TZID:America/Phoenix
BEGIN:STANDARD
TZOFFSETFROM:-0700
TZOFFSETTO:-0700
TZNAME:MST
DTSTART:20240101T000000
END:STANDARD
END:VTIMEZONE
BEGIN:VTIMEZONE
TZID:America/Denver
BEGIN:DAYLIGHT
TZOFFSETFROM:-0700
TZOFFSETTO:-0600
TZNAME:MDT
DTSTART:20240310T090000
END:DAYLIGHT
BEGIN:STANDARD
TZOFFSETFROM:-0600
TZOFFSETTO:-0700
TZNAME:MST
DTSTART:20241103T080000
END:STANDARD
BEGIN:DAYLIGHT
TZOFFSETFROM:-0700
TZOFFSETTO:-0600
TZNAME:MDT
DTSTART:20250309T090000
END:DAYLIGHT
BEGIN:STANDARD
TZOFFSETFROM:-0600
TZOFFSETTO:-0700
TZNAME:MST
DTSTART:20251102T080000
END:STANDARD
BEGIN:DAYLIGHT
TZOFFSETFROM:-0700
TZOFFSETTO:-0600
TZNAME:MDT
DTSTART:20260308T090000
END:DAYLIGHT
BEGIN:STANDARD
TZOFFSETFROM:-0600
TZOFFSETTO:-0700
TZNAME:MST
DTSTART:20261101T080000
END:STANDARD
END:VTIMEZONE
BEGIN:VEVENT
DTSTART;TZID=America/Phoenix:20250717T090000
DTEND;TZID=America/Phoenix:20250717T100000
DTSTAMP:20260419T141925
CREATED:20250708T163834Z
LAST-MODIFIED:20250708T163834Z
UID:39043-1752742800-1752746400@fidelisagents.com
SUMMARY:The Med Supp Education Series: Spotlight On Guarantee Life Trust
DESCRIPTION:Please Join us as we’ll host our friends from Guarantee Life Trust on a special webinar. \nCross-selling is essential for insurance agents…and it just so happens that ancillary coverage like STC\, Hospital Indemnity\, Cancer\, Heart Attack & Stroke planes is essential for consumers – it’s a true win\, win. With Guarantee Life Trust you have access to outstanding products in each of the aforementioned categories \nClick here to register!  \n  \n\nNever Miss an Update by Updating Your Contact Preferences and Following Us on Social Media! 
URL:https://fidelisagents.com/event/the-med-supp-education-series-spotlight-on-guarantee-life-trust/
LOCATION:Zoom
CATEGORIES:National
ATTACH;FMTTYPE=image/png:https://fidelisagents.com/wp-content/uploads/2025/07/John-Colbaugh-Virtual-Event-Website-Header.png
END:VEVENT
BEGIN:VEVENT
DTSTART;TZID=America/Denver:20250717T110000
DTEND;TZID=America/Denver:20250717T120000
DTSTAMP:20260419T141925
CREATED:20250717T234323Z
LAST-MODIFIED:20250718T172602Z
UID:39170-1752750000-1752753600@fidelisagents.com
SUMMARY:Benefits Of Partnering With Archwell
DESCRIPTION:Tune in to a special Fidelis event showcasing the full scope of Archwell’s solutions. Join us for an informative webinar featuring expert insights from Archwell’s leadership team! \nClick here to watch the recording!  \n  \nNever Miss an Update by Updating Your Contact Preferences and Following Us on Social Media! 
URL:https://fidelisagents.com/event/benefits-of-partnering-with-archwell/
LOCATION:Zoom
CATEGORIES:Colorado
ATTACH;FMTTYPE=image/png:https://fidelisagents.com/wp-content/uploads/2025/07/Generic-Website-Headers.png
END:VEVENT
BEGIN:VEVENT
DTSTART;TZID=America/Phoenix:20250717T120000
DTEND;TZID=America/Phoenix:20250717T130000
DTSTAMP:20260419T141925
CREATED:20250625T172217Z
LAST-MODIFIED:20250625T172217Z
UID:38362-1752753600-1752757200@fidelisagents.com
SUMMARY:The Med Supp Education Series: Mastering the Mystery of Med Supp - Part 2
DESCRIPTION:New to Medicare Supplements or the Senior Market? Join our webinar to excel in identifying Med Supp clients! \nMark your calendars and reserve your place now and learn how to identify Med Supp clients\, opening new avenues for your business success. Don’t miss this opportunity! \nClick here to register!  \n\n  \nNever Miss an Update by Updating Your Contact Preferences and Following Us on Social Media!  \n\n\n\n\n  \n 
URL:https://fidelisagents.com/event/the-med-supp-education-series-mastering-the-mystery-of-med-supp-part-2-2/
LOCATION:Zoom
CATEGORIES:National
ATTACH;FMTTYPE=image/png:https://fidelisagents.com/wp-content/uploads/2025/06/John-Colbaugh-Virtual-Event-Website-Header-21.png
END:VEVENT
END:VCALENDAR