BEGIN:VCALENDAR
VERSION:2.0
PRODID:-//Fidelis - ECPv6.15.17.1//NONSGML v1.0//EN
CALSCALE:GREGORIAN
METHOD:PUBLISH
X-ORIGINAL-URL:https://fidelisagents.com
X-WR-CALDESC:Events for Fidelis
REFRESH-INTERVAL;VALUE=DURATION:PT1H
X-Robots-Tag:noindex
X-PUBLISHED-TTL:PT1H
BEGIN:VTIMEZONE
TZID:America/Phoenix
BEGIN:STANDARD
TZOFFSETFROM:-0700
TZOFFSETTO:-0700
TZNAME:MST
DTSTART:20240101T000000
END:STANDARD
END:VTIMEZONE
BEGIN:VEVENT
DTSTART;TZID=America/Phoenix:20250709T120000
DTEND;TZID=America/Phoenix:20250709T130000
DTSTAMP:20260419T142445
CREATED:20250625T174048Z
LAST-MODIFIED:20250625T174048Z
UID:38398-1752062400-1752066000@fidelisagents.com
SUMMARY:The Med Supp Education Series: Plan N For The Win!
DESCRIPTION:Unlock Your Potential with “Plan N for the Win” – A Can’t-Miss Webinar Event! \nJoin us for an exclusive webinar\, “Plan N for the Win\,” and discover how to transform obstacles into victories. With agents already harnessing the power of Plan N\, don’t miss your chance to get ahead. \nClick here to register! \n  \n\nNever Miss an Update by Updating Your Contact Preferences and Following Us on Social Media! 
URL:https://fidelisagents.com/event/the-med-supp-education-series-plan-n-for-the-win-2/
LOCATION:Zoom
CATEGORIES:National
ATTACH;FMTTYPE=image/png:https://fidelisagents.com/wp-content/uploads/2025/06/John-Colbaugh-Virtual-Event-Website-Header-23.png
END:VEVENT
END:VCALENDAR