BEGIN:VCALENDAR
VERSION:2.0
PRODID:-//Fidelis - ECPv6.15.17.1//NONSGML v1.0//EN
CALSCALE:GREGORIAN
METHOD:PUBLISH
X-WR-CALNAME:Fidelis
X-ORIGINAL-URL:https://fidelisagents.com
X-WR-CALDESC:Events for Fidelis
REFRESH-INTERVAL;VALUE=DURATION:PT1H
X-Robots-Tag:noindex
X-PUBLISHED-TTL:PT1H
BEGIN:VTIMEZONE
TZID:America/Phoenix
BEGIN:STANDARD
TZOFFSETFROM:-0700
TZOFFSETTO:-0700
TZNAME:MST
DTSTART:20240101T000000
END:STANDARD
END:VTIMEZONE
BEGIN:VEVENT
DTSTART;TZID=America/Phoenix:20250707T120000
DTEND;TZID=America/Phoenix:20250707T130000
DTSTAMP:20260419T141925
CREATED:20250625T163214Z
LAST-MODIFIED:20250625T163214Z
UID:38347-1751889600-1751893200@fidelisagents.com
SUMMARY:The Med Supp Education Series: The AFLAC Med Supp Showcase
DESCRIPTION:Attending the Aflac Medicare Supplement webinar is a must for agents looking to elevate their portfolio and strengthen client relationships. \nThis webinar will leave you inspired to enrich your portfolio with Aflac\, a groundbreaking force in the world of Medicare Supplements. Get ready to present this game-changing opportunity to your clients and watch your success soar. \nClick here to register!  \n  \n\nNever Miss an Update by Updating Your Contact Preferences and Following Us on Social Media! 
URL:https://fidelisagents.com/event/the-med-supp-education-series-the-aflac-med-supp-showcase-3/
LOCATION:Zoom
CATEGORIES:National
ATTACH;FMTTYPE=image/png:https://fidelisagents.com/wp-content/uploads/2025/06/John-Colbaugh-Virtual-Event-Website-Header-25.png
END:VEVENT
END:VCALENDAR