BEGIN:VCALENDAR
VERSION:2.0
PRODID:-//Fidelis - ECPv6.15.17.1//NONSGML v1.0//EN
CALSCALE:GREGORIAN
METHOD:PUBLISH
X-WR-CALNAME:Fidelis
X-ORIGINAL-URL:https://fidelisagents.com
X-WR-CALDESC:Events for Fidelis
REFRESH-INTERVAL;VALUE=DURATION:PT1H
X-Robots-Tag:noindex
X-PUBLISHED-TTL:PT1H
BEGIN:VTIMEZONE
TZID:America/Phoenix
BEGIN:STANDARD
TZOFFSETFROM:-0700
TZOFFSETTO:-0700
TZNAME:MST
DTSTART:20240101T000000
END:STANDARD
END:VTIMEZONE
BEGIN:VEVENT
DTSTART;TZID=America/Phoenix:20250124T100000
DTEND;TZID=America/Phoenix:20250124T110000
DTSTAMP:20260420T234306
CREATED:20250113T191118Z
LAST-MODIFIED:20250113T191118Z
UID:33087-1737712800-1737716400@fidelisagents.com
SUMMARY:Alignment in Arizona & C-SNP Opportunities in 2025!
DESCRIPTION:Please join Jason Wilton\, Arizona Broker Manager from Alignment Health\, as he discusses the 2025 C-SNP Opportunity in Arizona and how Alignment can partner with you this year. No RSVP is required. Please join us for the live Zoom session. \n  \nJoin Zoom Meeting\nhttps://us06web.zoom.us/j/82917551293?pwd=FYapU7NDIQ9TbWTVNFoabYZEETLh2u.1 \nMeeting ID: 829 1755 1293\nPasscode: FIDELIS \n— \nOne tap mobile\n+17193594580\,\,82917551293#\,\,\,\,*3276898# US\n+12532050468\,\,82917551293#\,\,\,\,*3276898# US \n— \nDial by your location\n• +1 719 359 4580 US\n• +1 253 205 0468 US\n• +1 253 215 8782 US \nMeeting ID: 829 1755 1293\nPasscode: 3276898 \nFind your local number: https://us06web.zoom.us/u/kUheDcVQ9 \n  \n\nNever Miss an Update by Updating Your Contact Preferences and Following Us on Social Media!
URL:https://fidelisagents.com/event/alignment-in-arizona-c-snp-opportunities-in-2025/
LOCATION:Zoom
CATEGORIES:Arizona
ATTACH;FMTTYPE=image/png:https://fidelisagents.com/wp-content/uploads/2025/01/Untitled-design-3.png
ORGANIZER;CN="Karrie DeVore":MAILTO:Karrie@fidelisins.com
END:VEVENT
END:VCALENDAR