BEGIN:VCALENDAR
VERSION:2.0
PRODID:-//Fidelis - ECPv6.15.17.1//NONSGML v1.0//EN
CALSCALE:GREGORIAN
METHOD:PUBLISH
X-ORIGINAL-URL:https://fidelisagents.com
X-WR-CALDESC:Events for Fidelis
REFRESH-INTERVAL;VALUE=DURATION:PT1H
X-Robots-Tag:noindex
X-PUBLISHED-TTL:PT1H
BEGIN:VTIMEZONE
TZID:America/Denver
BEGIN:DAYLIGHT
TZOFFSETFROM:-0700
TZOFFSETTO:-0600
TZNAME:MDT
DTSTART:20240310T090000
END:DAYLIGHT
BEGIN:STANDARD
TZOFFSETFROM:-0600
TZOFFSETTO:-0700
TZNAME:MST
DTSTART:20241103T080000
END:STANDARD
BEGIN:DAYLIGHT
TZOFFSETFROM:-0700
TZOFFSETTO:-0600
TZNAME:MDT
DTSTART:20250309T090000
END:DAYLIGHT
BEGIN:STANDARD
TZOFFSETFROM:-0600
TZOFFSETTO:-0700
TZNAME:MST
DTSTART:20251102T080000
END:STANDARD
BEGIN:DAYLIGHT
TZOFFSETFROM:-0700
TZOFFSETTO:-0600
TZNAME:MDT
DTSTART:20260308T090000
END:DAYLIGHT
BEGIN:STANDARD
TZOFFSETFROM:-0600
TZOFFSETTO:-0700
TZNAME:MST
DTSTART:20261101T080000
END:STANDARD
END:VTIMEZONE
BEGIN:VEVENT
DTSTART;VALUE=DATE:20250120
DTEND;VALUE=DATE:20250121
DTSTAMP:20260420T234427
CREATED:20241216T224147Z
LAST-MODIFIED:20241216T224147Z
UID:32435-1737331200-1737417599@fidelisagents.com
SUMMARY:2025 Holiday Hours: Martin Luther King Jr. Day
DESCRIPTION:In honor of Martin Luther King Jr. Day\, all Fidelis Offices will be closed on Monday\, January 20th. We will return to regular business hours Tuesday\, January 21st. Please contact your local office if you have any questions about these hours. \nIf you need assistance during this time\, feel free to reach out\, and we will get back to you as soon as possible when we return. \n  \nNever Miss an Update by Updating Your Contact Preferences and Following Us on Social Media!
URL:https://fidelisagents.com/event/2025-holiday-hours-martin-luther-king-jr-day/
ATTACH;FMTTYPE=image/png:https://fidelisagents.com/wp-content/uploads/2023/01/NM-OFFICE-1024-×-450-px.png
END:VEVENT
END:VCALENDAR