BEGIN:VCALENDAR
VERSION:2.0
PRODID:-//Fidelis - ECPv6.15.17.1//NONSGML v1.0//EN
CALSCALE:GREGORIAN
METHOD:PUBLISH
X-ORIGINAL-URL:https://fidelisagents.com
X-WR-CALDESC:Events for Fidelis
REFRESH-INTERVAL;VALUE=DURATION:PT1H
X-Robots-Tag:noindex
X-PUBLISHED-TTL:PT1H
BEGIN:VTIMEZONE
TZID:America/Phoenix
BEGIN:STANDARD
TZOFFSETFROM:-0700
TZOFFSETTO:-0700
TZNAME:MST
DTSTART:20240101T000000
END:STANDARD
END:VTIMEZONE
BEGIN:VEVENT
DTSTART;TZID=America/Phoenix:20250115T140000
DTEND;TZID=America/Phoenix:20250115T160000
DTSTAMP:20260420T234426
CREATED:20250113T185505Z
LAST-MODIFIED:20250113T185505Z
UID:33080-1736949600-1736956800@fidelisagents.com
SUMMARY:OEP Agent Success & Appreciation Day in Arizona
DESCRIPTION:Why should you come? Most of our TOP ARIZONA carrier reps will be here\, and they are ready to work with you this OEP & beyond! Each will have information and a signup sheet. Your time will be well spent building relationships\, celebrating success\, and developing plans & support for your most successful OEP yet! \nPlease come as you are…but there may be a prize for the best 80’s look on Wednesday! \nPlease RSVP today by emailing karrie@fidelisins.com or call 480.712.8699. \n  \n\nNever Miss an Update by Updating Your Contact Preferences and Following Us on Social Media!
URL:https://fidelisagents.com/event/oep-agent-success-appreciation-day-in-arizona/
LOCATION:Culinary Dropout\, 383 N Gilbert Rd\, Gilbert\, AZ\, 85234\, United States
CATEGORIES:Arizona
ATTACH;FMTTYPE=image/png:https://fidelisagents.com/wp-content/uploads/2025/01/Untitled-design-1.png
ORGANIZER;CN="Karrie DeVore":MAILTO:Karrie@fidelisins.com
END:VEVENT
END:VCALENDAR