BEGIN:VCALENDAR
VERSION:2.0
PRODID:-//Fidelis - ECPv6.15.17.1//NONSGML v1.0//EN
CALSCALE:GREGORIAN
METHOD:PUBLISH
X-WR-CALNAME:Fidelis
X-ORIGINAL-URL:https://fidelisagents.com
X-WR-CALDESC:Events for Fidelis
REFRESH-INTERVAL;VALUE=DURATION:PT1H
X-Robots-Tag:noindex
X-PUBLISHED-TTL:PT1H
BEGIN:VTIMEZONE
TZID:America/Denver
BEGIN:DAYLIGHT
TZOFFSETFROM:-0700
TZOFFSETTO:-0600
TZNAME:MDT
DTSTART:20240310T090000
END:DAYLIGHT
BEGIN:STANDARD
TZOFFSETFROM:-0600
TZOFFSETTO:-0700
TZNAME:MST
DTSTART:20241103T080000
END:STANDARD
BEGIN:DAYLIGHT
TZOFFSETFROM:-0700
TZOFFSETTO:-0600
TZNAME:MDT
DTSTART:20250309T090000
END:DAYLIGHT
BEGIN:STANDARD
TZOFFSETFROM:-0600
TZOFFSETTO:-0700
TZNAME:MST
DTSTART:20251102T080000
END:STANDARD
BEGIN:DAYLIGHT
TZOFFSETFROM:-0700
TZOFFSETTO:-0600
TZNAME:MDT
DTSTART:20260308T090000
END:DAYLIGHT
BEGIN:STANDARD
TZOFFSETFROM:-0600
TZOFFSETTO:-0700
TZNAME:MST
DTSTART:20261101T080000
END:STANDARD
END:VTIMEZONE
BEGIN:VEVENT
DTSTART;VALUE=DATE:20250108
DTEND;VALUE=DATE:20250109
DTSTAMP:20260420T234307
CREATED:20241108T230704Z
LAST-MODIFIED:20241212T215128Z
UID:31636-1736294400-1736380799@fidelisagents.com
SUMMARY:2025 Office Hours: Colorado and New Mexico Offices Closed
DESCRIPTION:The New Mexico and Colorado Offices will be closed January 8th\, 2025. All Team members will be available online for any needs you may have. For immediate assistance\, please call the Arizona office at (480) 712 – 8699.
URL:https://fidelisagents.com/event/2025-office-hours-colorado-and-new-mexico-offices-closed/
CATEGORIES:New Mexico
ATTACH;FMTTYPE=image/png:https://fidelisagents.com/wp-content/uploads/2023/01/WEBSITE-IMAGES-HEADER-6.png
END:VEVENT
END:VCALENDAR